BEGIN:VCALENDAR
VERSION:2.0
PRODID:-//Karpacz//NONSGML v1.0//PL
CALSCALE:GREGORIAN
X-WR-TIMEZONE:Europe/Warsaw
BEGIN:VEVENT
DTSTART:20241114T093000
DTEND:20241114T170000
UID:69eaa038d77bd
DTSTAMP:20260424T004200
LOCATION:Karpacz\, Hotel Gołębiewski
DESCRIPTION: https://www.karpacz.pl/31-polsko-niemiecko-czeskie-forum-kooperacji-firm-3082/e
URL:https://www.karpacz.pl/31-polsko-niemiecko-czeskie-forum-kooperacji-firm-3082/e
SUMMARY:31. Polsko-Niemiecko-Czeskie Forum Kooperacji Firm
END:VEVENT
END:VCALENDAR