BEGIN:VCALENDAR
VERSION:2.0
PRODID:-//Karpacz//NONSGML v1.0//PL
CALSCALE:GREGORIAN
X-WR-TIMEZONE:Europe/Warsaw
BEGIN:VEVENT
DTSTART:20210822T090000
DTEND:20210822T150000
UID:69e95a0ba1e9c
DTSTAMP:20260423T013019
LOCATION:ul. Konstytucji 3 Maja 48a (deptak)
DESCRIPTION:Zdobądź najwyższy szczyt Sudetów https://www.karpacz.pl/31-uphill-race-sniezka-2689/e
URL:https://www.karpacz.pl/31-uphill-race-sniezka-2689/e
SUMMARY:31. Uphill Race Śnieżka
END:VEVENT
END:VCALENDAR