BEGIN:VCALENDAR
VERSION:2.0
PRODID:-//Karpacz//NONSGML v1.0//PL
CALSCALE:GREGORIAN
X-WR-TIMEZONE:Europe/Warsaw
BEGIN:VEVENT
DTSTART:20240825T080000
DTEND:20240825T140000
UID:69e9540869087
DTSTAMP:20260423T010440
LOCATION:ul. Konstytucji 3 Maja 48a (deptak)
DESCRIPTION: https://www.karpacz.pl/34-uphill-race-sniezka-2994/e
URL:https://www.karpacz.pl/34-uphill-race-sniezka-2994/e
SUMMARY:34. Uphill Race Śnieżka
END:VEVENT
END:VCALENDAR