BEGIN:VCALENDAR
VERSION:2.0
PRODID:-//Karpacz//NONSGML v1.0//PL
CALSCALE:GREGORIAN
X-WR-TIMEZONE:Europe/Warsaw
BEGIN:VEVENT
DTSTART:20251102T170000
DTEND:20251102T183000
UID:69ed41f53bbec
DTSTAMP:20260426T003637
LOCATION:Centrum Integracji\, Edukacji i Kultury w Karpaczu ul.Konstytucji 3 Maja 24
DESCRIPTION: https://www.karpacz.pl/4-zywioly-koncert-3316/e
URL:https://www.karpacz.pl/4-zywioly-koncert-3316/e
SUMMARY:4 Żywioły - koncert
END:VEVENT
END:VCALENDAR