BEGIN:VCALENDAR
VERSION:2.0
PRODID:-//Karpacz//NONSGML v1.0//PL
CALSCALE:GREGORIAN
X-WR-TIMEZONE:Europe/Warsaw
BEGIN:VEVENT
DTSTART:20090528T000000
DTEND:20090528T000000
UID:69ea62d26aafc
DTSTAMP:20260423T202002
LOCATION:                                                                                                    
DESCRIPTION:

P&nbsp\;&nbsp\;&nbsp\;&nbsp\;&nbsp\;&nbsp\;&nbsp\;&nbsp\; R&nbsp\;&nbsp\;&nbsp\;&nbsp\;&nbsp\;&nbsp\;&nbsp\;&nbsp\;&nbsp\; O&nbsp\;&nbsp\;&nbsp\;&nbsp\;&nbsp\;&nbsp\;&nbsp\;&nbsp\; G&nbsp\;&nbsp\;&nbsp\;&nbsp\;&nbsp\;&nbsp\;&nb https://www.karpacz.pl/49-urodziny-miasta-301/e
URL:https://www.karpacz.pl/49-urodziny-miasta-301/e
SUMMARY:49 Urodziny Miasta
END:VEVENT
END:VCALENDAR