BEGIN:VCALENDAR
VERSION:2.0
PRODID:-//Karpacz//NONSGML v1.0//PL
CALSCALE:GREGORIAN
X-WR-TIMEZONE:Europe/Warsaw
BEGIN:VEVENT
DTSTART:20050212T110000
DTEND:20050212T110000
UID:69eab53f4a4e8
DTSTAMP:20260424T021143
LOCATION:Stok Kolorowa                                                                                       
DESCRIPTION:"5 MINUT SNOW SHOW" 
&#8211\; to impreza  plenerowa\, proponująca aktywny wypoczynek na świeżym powietrzu. Nie są to zawody\, kwalifikacje do jakichkolwiek mistrzostw rangi krajowej czy też   świa https://www.karpacz.pl/5-minut-snow-show-2033/e
URL:https://www.karpacz.pl/5-minut-snow-show-2033/e
SUMMARY:5 Minut Snow Show
END:VEVENT
END:VCALENDAR