BEGIN:VCALENDAR
VERSION:2.0
PRODID:-//Karpacz//NONSGML v1.0//PL
CALSCALE:GREGORIAN
X-WR-TIMEZONE:Europe/Warsaw
BEGIN:VEVENT
DTSTART:20100529T000000
DTEND:20100529T000000
UID:69ecfc109769a
DTSTAMP:20260425T193824
LOCATION:Karpacz
DESCRIPTION:50 LAT PRAW MIEJSKICH KARPACZA

ARTYSTYCZNY WEEKEND 20.05.2010-22.05.2010
JUBILEUSZ 100 LAT KOŚCIOŁA NNMP 31.05.2010-06.06.2010
DZIEŃ DZIECKA w KARPACZU 1.06.2010
URODZINOWY WEEKEND 18.06.2010 https://www.karpacz.pl/50-urodziny-miasta-634-1729/e
URL:https://www.karpacz.pl/50-urodziny-miasta-634-1729/e
SUMMARY:50 Urodziny Miasta
END:VEVENT
END:VCALENDAR