BEGIN:VCALENDAR
VERSION:2.0
PRODID:-//Karpacz//NONSGML v1.0//PL
CALSCALE:GREGORIAN
X-WR-TIMEZONE:Europe/Warsaw
BEGIN:VEVENT
DTSTART:20231125T190000
DTEND:20231126T020000
UID:69ecd7baea2e5
DTSTAMP:20260425T170322
LOCATION:Sowiduch Browar i Restauracja
DESCRIPTION: https://www.karpacz.pl/andrzejki-w-z-muzyka-na-zywo-w-restauracji-sowiduch-2942/e
URL:https://www.karpacz.pl/andrzejki-w-z-muzyka-na-zywo-w-restauracji-sowiduch-2942/e
SUMMARY:Andrzejki z muzyką na żywo w restauracji Sowiduch
END:VEVENT
END:VCALENDAR