BEGIN:VCALENDAR
VERSION:2.0
PRODID:-//Karpacz//NONSGML v1.0//PL
CALSCALE:GREGORIAN
X-WR-TIMEZONE:Europe/Warsaw
BEGIN:VEVENT
DTSTART:20250227T110000
DTEND:20250227T150000
UID:69eb129a13d88
DTSTAMP:20260424T085002
LOCATION:Schronisko Dom Śląski
DESCRIPTION: https://www.karpacz.pl/bezpiecznie-w-karkonoszach-3178/e
URL:https://www.karpacz.pl/bezpiecznie-w-karkonoszach-3178/e
SUMMARY:Bezpiecznie w Karkonoszach
END:VEVENT
END:VCALENDAR