BEGIN:VCALENDAR
VERSION:2.0
PRODID:-//Karpacz//NONSGML v1.0//PL
CALSCALE:GREGORIAN
X-WR-TIMEZONE:Europe/Warsaw
BEGIN:VEVENT
DTSTART:20260227T180000
DTEND:20260227T220000
UID:69ea494b311f8
DTSTAMP:20260423T183107
LOCATION:Park przy Lipie Sądowej
DESCRIPTION: https://www.karpacz.pl/dyskoteka-pod-chmurka-w-karpaczu-3391/e
URL:https://www.karpacz.pl/dyskoteka-pod-chmurka-w-karpaczu-3391/e
SUMMARY:DYSKOTEKA POD CHMURKĄ W KARPACZU
END:VEVENT
END:VCALENDAR