BEGIN:VCALENDAR
VERSION:2.0
PRODID:-//Karpacz//NONSGML v1.0//PL
CALSCALE:GREGORIAN
X-WR-TIMEZONE:Europe/Warsaw
BEGIN:VEVENT
DTSTART:20231123T170000
DTEND:20231123T183000
UID:69eb91a3428e2
DTSTAMP:20260424T175203
LOCATION:Stacja Kultura\, ul. Kolejowa 3
DESCRIPTION: https://www.karpacz.pl/etnospotkania-w-stacji-kultura-norwegia-2938/e
URL:https://www.karpacz.pl/etnospotkania-w-stacji-kultura-norwegia-2938/e
SUMMARY:EtnoSpotkania w Stacji Kultura - Norwegia
END:VEVENT
END:VCALENDAR