BEGIN:VCALENDAR
VERSION:2.0
PRODID:-//Karpacz//NONSGML v1.0//PL
CALSCALE:GREGORIAN
X-WR-TIMEZONE:Europe/Warsaw
BEGIN:VEVENT
DTSTART:20160916T150000
DTEND:20160918T143000
UID:69e763976fe71
DTSTAMP:20260421T134631
LOCATION:Karpacz
DESCRIPTION:V EveryBoard Festival Memoriał Jakuba "Futka" Futerhendler'a Karpacz 16 – 18 września 2016r. https://www.karpacz.pl/everyboard-festival-2016-2299/e
URL:https://www.karpacz.pl/everyboard-festival-2016-2299/e
SUMMARY:EVERYBOARD FESTIVAL 2016
END:VEVENT
END:VCALENDAR