BEGIN:VCALENDAR
VERSION:2.0
PRODID:-//Karpacz//NONSGML v1.0//PL
CALSCALE:GREGORIAN
X-WR-TIMEZONE:Europe/Warsaw
BEGIN:VEVENT
DTSTART:20250607T173000
DTEND:20250607T213000
UID:69eaeaca97172
DTSTAMP:20260424T060010
LOCATION:Restauracja Sutra ul. Wilcza 9
DESCRIPTION: https://www.karpacz.pl/festiwal-dolnoslaskie-smaki-3235/e
URL:https://www.karpacz.pl/festiwal-dolnoslaskie-smaki-3235/e
SUMMARY:Festiwal Dolnośląskie Smaki
END:VEVENT
END:VCALENDAR