BEGIN:VCALENDAR
VERSION:2.0
PRODID:-//Karpacz//NONSGML v1.0//PL
CALSCALE:GREGORIAN
X-WR-TIMEZONE:Europe/Warsaw
BEGIN:VEVENT
DTSTART:20110623T170000
DTEND:20110623T170000
UID:69ecdccf9c61d
DTSTAMP:20260425T172503
LOCATION:Hotel Sandra Spa
DESCRIPTION:Festyn z mn&oacute\;stwem atrakcji w dniu 23.06.2011 od godz. 17:00\,
kt&oacute\;ry uświetni Koncert Sceniczny GWIAZDY WIECZORU
Krzysztofa Krawczyka
Wstęp wolny
Dodatkowo w programie:
17:00-17:30- https://www.karpacz.pl/festyn-z-krzysztofem-krawczykiem-w-hotelu-sandra-spa-893-1489/e
URL:https://www.karpacz.pl/festyn-z-krzysztofem-krawczykiem-w-hotelu-sandra-spa-893-1489/e
SUMMARY:Festyn z Krzysztofem Krawczykiem w  Sandra Spa
END:VEVENT
END:VCALENDAR