BEGIN:VCALENDAR
VERSION:2.0
PRODID:-//Karpacz//NONSGML v1.0//PL
CALSCALE:GREGORIAN
X-WR-TIMEZONE:Europe/Warsaw
BEGIN:VEVENT
DTSTART:20260503T100000
DTEND:20260503T140000
UID:69e92a9da5a32
DTSTAMP:20260422T220757
LOCATION:Centrum Edukacyjne Karkonoskiego Parku Narodowego\, ul. Leśna 9
DESCRIPTION: https://www.karpacz.pl/fioletowy-zawrot-glowy-wyprawa-po-skarby-3427/e
URL:https://www.karpacz.pl/fioletowy-zawrot-glowy-wyprawa-po-skarby-3427/e
SUMMARY:FIOLETOWY ZAWRÓT GŁOWY – WYPRAWA PO SKARBY!
END:VEVENT
END:VCALENDAR