BEGIN:VCALENDAR
VERSION:2.0
PRODID:-//Karpacz//NONSGML v1.0//PL
CALSCALE:GREGORIAN
X-WR-TIMEZONE:Europe/Warsaw
BEGIN:VEVENT
DTSTART:20130724T163000
DTEND:20130724T163000
UID:69ece06a4d5f5
DTSTAMP:20260425T174026
LOCATION:Restauracja Dwór Liczyrzepy
DESCRIPTION:Zimowa wyprawa na Broad Peak\, 8046 m n.p.m.&nbsp\; 

Rafał Fronia - prelegent

&nbsp\;
24 lipca 2013r. 
godz. 16.30

Restauracja Dw&oacute\;r Liczyrzepy\, ul. Obrońc&oacute\;w Pokoju 4b

Szczyt https://www.karpacz.pl/himalaje-zima-prelekcja-rafala-froni-1613-804/e
URL:https://www.karpacz.pl/himalaje-zima-prelekcja-rafala-froni-1613-804/e
SUMMARY:Zimowa wyprawa na Broad Peak\, 8046 m n.p.m. 
END:VEVENT
END:VCALENDAR