BEGIN:VCALENDAR
VERSION:2.0
PRODID:-//Karpacz//NONSGML v1.0//PL
CALSCALE:GREGORIAN
X-WR-TIMEZONE:Europe/Warsaw
BEGIN:VEVENT
DTSTART:20220604T100000
DTEND:20220604T130000
UID:69e8092b3e454
DTSTAMP:20260422T013259
LOCATION:Szkoła 707 Karpacz\, ul. Myśliwska 15 C
DESCRIPTION: https://www.karpacz.pl/iii-charytatywny-bieg-gorski-707-m-npm-2749/e
URL:https://www.karpacz.pl/iii-charytatywny-bieg-gorski-707-m-npm-2749/e
SUMMARY:III Charytatywny Bieg Górski 707 m n.p.m.
END:VEVENT
END:VCALENDAR