BEGIN:VCALENDAR
VERSION:2.0
PRODID:-//Karpacz//NONSGML v1.0//PL
CALSCALE:GREGORIAN
X-WR-TIMEZONE:Europe/Warsaw
BEGIN:VEVENT
DTSTART:20241130T200000
DTEND:20241201T020000
UID:69ed83c0b398b
DTSTAMP:20260426T051720
LOCATION:Chata Karkonoska
DESCRIPTION:Finlandia x Sax x Jack https://www.karpacz.pl/impreza-andrzejkowa-3101/e
URL:https://www.karpacz.pl/impreza-andrzejkowa-3101/e
SUMMARY:Impreza Andrzejkowa
END:VEVENT
END:VCALENDAR