BEGIN:VCALENDAR
VERSION:2.0
PRODID:-//Karpacz//NONSGML v1.0//PL
CALSCALE:GREGORIAN
X-WR-TIMEZONE:Europe/Warsaw
BEGIN:VEVENT
DTSTART:20220813T120000
DTEND:20220813T190000
UID:69e6dbe86e1b0
DTSTAMP:20260421T040736
LOCATION:Park przy ul. Mickiewicza
DESCRIPTION: https://www.karpacz.pl/jarmark-sw-wawrzynca-2788/e
URL:https://www.karpacz.pl/jarmark-sw-wawrzynca-2788/e
SUMMARY:Jarmark św. Wawrzyńca
END:VEVENT
END:VCALENDAR