BEGIN:VCALENDAR
VERSION:2.0
PRODID:-//Karpacz//NONSGML v1.0//PL
CALSCALE:GREGORIAN
X-WR-TIMEZONE:Europe/Warsaw
BEGIN:VEVENT
DTSTART:20110924T100000
DTEND:20110924T100000
UID:69ecac0c1fa61
DTSTAMP:20260425T135700
LOCATION:szlak im. Dr Orłowicza
DESCRIPTION:Zapraszamy wszystkich chętnych do udziału w Jesiennym Biegu do Kotła Łomniczki. Bieg odbędzie się&nbsp\; w sobotę 24 września o godz. 10:00. Startujemy przy wejściu na szlak im. dr M. Orłowic https://www.karpacz.pl/jesienny-bieg-do-kotla-lomniczki-848-1527/e
URL:https://www.karpacz.pl/jesienny-bieg-do-kotla-lomniczki-848-1527/e
SUMMARY:Jesienny Bieg do Kotła Łomniczki
END:VEVENT
END:VCALENDAR