BEGIN:VCALENDAR
VERSION:2.0
PRODID:-//Karpacz//NONSGML v1.0//PL
CALSCALE:GREGORIAN
X-WR-TIMEZONE:Europe/Warsaw
BEGIN:VEVENT
DTSTART:20260307T170000
DTEND:20260307T200000
UID:69e4e32b8c93f
DTSTAMP:20260419T161403
LOCATION:Centrum Integracji\, Edukacji i Kultury w Karpaczu ul. Konstytucji 3 Maja 24
DESCRIPTION: https://www.karpacz.pl/jestem-wazna-zdrowko-3399/e
URL:https://www.karpacz.pl/jestem-wazna-zdrowko-3399/e
SUMMARY:Jestem ważna - Zdrówko
END:VEVENT
END:VCALENDAR