BEGIN:VCALENDAR
VERSION:2.0
PRODID:-//Karpacz//NONSGML v1.0//PL
CALSCALE:GREGORIAN
X-WR-TIMEZONE:Europe/Warsaw
BEGIN:VEVENT
DTSTART:20140803T100000
DTEND:20140803T100000
UID:69e576b4aaf9a
DTSTAMP:20260420T024332
LOCATION:Kościółek Wang
DESCRIPTION:&nbsp\;Jubileusz 170 - lecia rekonsekracji kościoła Wang\,

&nbsp\;Dnia 28 lipca 2014 r. mija 170 lat od rekonsekracji kościoła Wang w Karpaczu. Kości&oacute\;ł ten został wybudowany w XII wieku  https://www.karpacz.pl/jubileusz-170-lecia-rekonsekracji-kosciola-wang-1781-647/e
URL:https://www.karpacz.pl/jubileusz-170-lecia-rekonsekracji-kosciola-wang-1781-647/e
SUMMARY:Jubileusz 170 - lecia rekonsekracji kościoła Wang
END:VEVENT
END:VCALENDAR