BEGIN:VCALENDAR
VERSION:2.0
PRODID:-//Karpacz//NONSGML v1.0//PL
CALSCALE:GREGORIAN
X-WR-TIMEZONE:Europe/Warsaw
BEGIN:VEVENT
DTSTART:20091225T000000
DTEND:20091225T000000
UID:69ea4b5abab9b
DTSTAMP:20260423T183954
LOCATION:Stadion Miejski Karpacz
DESCRIPTION:Cyrkland zaprasza na bajkowy świat cyrku -Juremix. 
Miejsce:Stadion Miejski\, Karpacz.
Terminy: 
25-31 grudnia 2009 r. \, godz. 14:00 i 17:00\;
01 stycznia 2010\, godz. 17:00
02-03 stycznia 2010\, go https://www.karpacz.pl/juremix-wystepy-artystyczne-na-stadionie-654-1709/e
URL:https://www.karpacz.pl/juremix-wystepy-artystyczne-na-stadionie-654-1709/e
SUMMARY:Juremix występy artystyczne
END:VEVENT
END:VCALENDAR