BEGIN:VCALENDAR
VERSION:2.0
PRODID:-//Karpacz//NONSGML v1.0//PL
CALSCALE:GREGORIAN
X-WR-TIMEZONE:Europe/Warsaw
BEGIN:VEVENT
DTSTART:20080213T180000
DTEND:20080213T180000
UID:69ed4202f0177
DTSTAMP:20260426T003650
LOCATION:Stadion Miejski                                                                                     
DESCRIPTION:&nbsp\;
Namiot &quot\;Na Śniegu&quot\; czynny będzie od godz. 18:00 do 24:00 na Stadionie Miejskim\, przy ul. Kr&oacute\;tkiej
Ilość miejsc w namiocie jest ograniczona względami bezpieczeństwa
Cen https://www.karpacz.pl/kabaret-jacka-ziobro-451/e
URL:https://www.karpacz.pl/kabaret-jacka-ziobro-451/e
SUMMARY:Kabaret JACKA ZIOBRO
END:VEVENT
END:VCALENDAR