BEGIN:VCALENDAR
VERSION:2.0
PRODID:-//Karpacz//NONSGML v1.0//PL
CALSCALE:GREGORIAN
X-WR-TIMEZONE:Europe/Warsaw
BEGIN:VEVENT
DTSTART:20191124T193000
DTEND:20191124T213000
UID:69eacf3cc984c
DTSTAMP:20260424T040236
LOCATION:Scena Teatralna Hotelu Gołębiewski
DESCRIPTION: https://www.karpacz.pl/kabaret-neo-nowka-zywot-mariana-2601/e
URL:https://www.karpacz.pl/kabaret-neo-nowka-zywot-mariana-2601/e
SUMMARY:Kabaret Neo Nówka "Żywot Mariana"
END:VEVENT
END:VCALENDAR