BEGIN:VCALENDAR
VERSION:2.0
PRODID:-//Karpacz//NONSGML v1.0//PL
CALSCALE:GREGORIAN
X-WR-TIMEZONE:Europe/Warsaw
BEGIN:VEVENT
DTSTART:20250315T090000
DTEND:20250315T133000
UID:69e995f6c59bf
DTSTAMP:20260423T054558
LOCATION:Karpacz SKI Arena
DESCRIPTION: https://www.karpacz.pl/karkonoski-vertical-2025-3210/e
URL:https://www.karpacz.pl/karkonoski-vertical-2025-3210/e
SUMMARY:KarkonoSKI Vertical 2025
END:VEVENT
END:VCALENDAR