BEGIN:VCALENDAR
VERSION:2.0
PRODID:-//Karpacz//NONSGML v1.0//PL
CALSCALE:GREGORIAN
X-WR-TIMEZONE:Europe/Warsaw
BEGIN:VEVENT
DTSTART:20170917T090000
DTEND:20170917T180000
UID:69ed82e627ffd
DTSTAMP:20260426T051342
LOCATION:skocznia Orlinek
DESCRIPTION: https://www.karpacz.pl/kill-the-devil-hill-2460/e
URL:https://www.karpacz.pl/kill-the-devil-hill-2460/e
SUMMARY:Kill The Devil Hill
END:VEVENT
END:VCALENDAR