BEGIN:VCALENDAR
VERSION:2.0
PRODID:-//Karpacz//NONSGML v1.0//PL
CALSCALE:GREGORIAN
X-WR-TIMEZONE:Europe/Warsaw
BEGIN:VEVENT
DTSTART:20140523T180000
DTEND:20140523T180000
UID:69eaa3f8c742e
DTSTAMP:20260424T005800
LOCATION:Zespół Szkół w Karpaczu 
DESCRIPTION:KOBIECANKI KAMERALNIE

PIĄTEK\, 23 maja 2014 r. 
godz. 18.00
Zesp&oacute\;ł Szk&oacute\;ł w Karpaczu\, ul. Łączna 2

www.kobiecanki.pl


W programie: 

    Misz Masz - uwalniamy ciuchy z s https://www.karpacz.pl/kobiecanki-1896-546/e
URL:https://www.karpacz.pl/kobiecanki-1896-546/e
SUMMARY:KOBIECANKI
END:VEVENT
END:VCALENDAR