BEGIN:VCALENDAR
VERSION:2.0
PRODID:-//Karpacz//NONSGML v1.0//PL
CALSCALE:GREGORIAN
X-WR-TIMEZONE:Europe/Warsaw
BEGIN:VEVENT
DTSTART:20120106T180000
DTEND:20120106T180000
UID:69eca6a7cac30
DTSTAMP:20260425T133359
LOCATION:Kościół parafialny p.w. Nawiedzenia N.M.P.
DESCRIPTION:Zapraszamy w uroczystość Trzech Kr&oacute\;li na koncert wsp&oacute\;łcześnie zaaranżowanych kolęd w wykonaniu grupy młodych ludzi\, kt&oacute\;rzy w graniu i śpiewaniu odnajdują radość i speł https://www.karpacz.pl/koncert-koled-1099-1299/e
URL:https://www.karpacz.pl/koncert-koled-1099-1299/e
SUMMARY:Koncert Kolęd 
END:VEVENT
END:VCALENDAR