BEGIN:VCALENDAR
VERSION:2.0
PRODID:-//Karpacz//NONSGML v1.0//PL
CALSCALE:GREGORIAN
X-WR-TIMEZONE:Europe/Warsaw
BEGIN:VEVENT
DTSTART:20230901T200000
DTEND:20230901T210000
UID:69ea356b128cd
DTSTAMP:20260423T170619
LOCATION:Świątynia Wang
DESCRIPTION: https://www.karpacz.pl/koncert-trio-jak-amadeusz-2920/e
URL:https://www.karpacz.pl/koncert-trio-jak-amadeusz-2920/e
SUMMARY:Koncert Trio jak Amadeusz
END:VEVENT
END:VCALENDAR