BEGIN:VCALENDAR
VERSION:2.0
PRODID:-//Karpacz//NONSGML v1.0//PL
CALSCALE:GREGORIAN
X-WR-TIMEZONE:Europe/Warsaw
BEGIN:VEVENT
DTSTART:20120801T200000
DTEND:20120801T200000
UID:69eceec3904ad
DTSTAMP:20260425T184139
LOCATION:Kościółek Wang
DESCRIPTION:Koncert zdrowia na gongach\,misach\,dzwonkach i instrumentach etnicznych w wykonaniu Ireny Sallmann.
Kości&oacute\;łek Wang\,
Środa 01 sierpnia\, godz. 20:00
Bilety:
nolrmalny- 20 zł
ulgowy -10 z https://www.karpacz.pl/koncert-zdrowia-1266-1141/e
URL:https://www.karpacz.pl/koncert-zdrowia-1266-1141/e
SUMMARY:Koncert zdrowia
END:VEVENT
END:VCALENDAR