BEGIN:VCALENDAR
VERSION:2.0
PRODID:-//Karpacz//NONSGML v1.0//PL
CALSCALE:GREGORIAN
X-WR-TIMEZONE:Europe/Warsaw
BEGIN:VEVENT
DTSTART:20090219T190000
DTEND:20090219T190000
UID:69eca12fc0d1b
DTSTAMP:20260425T131039
LOCATION:Pub Magiel                                                                                          
DESCRIPTION:W czwartek&nbsp\;19&nbsp\;lutego 2009 w Pubie Magiel (przy ul. Konstytucji 3 Maja&nbsp\;22a ) w Karpaczu odbędzie się koncert zespołu WILD THING - rock'n'rollowe hity z lat 50'&nbsp\; i 60'tych akustyc https://www.karpacz.pl/koncert-zespolu-wild-thing-2009-02-19-320/e
URL:https://www.karpacz.pl/koncert-zespolu-wild-thing-2009-02-19-320/e
SUMMARY:Koncert zespołu WILD THING
END:VEVENT
END:VCALENDAR