BEGIN:VCALENDAR
VERSION:2.0
PRODID:-//Karpacz//NONSGML v1.0//PL
CALSCALE:GREGORIAN
X-WR-TIMEZONE:Europe/Warsaw
BEGIN:VEVENT
DTSTART:20240309T200000
DTEND:20240309T220000
UID:69eb33c5b65ca
DTSTAMP:20260424T111133
LOCATION:Karpacz\, Hotel Gołębiewski
DESCRIPTION: https://www.karpacz.pl/koncertowy-dzien-kobiet-queen-of-the-night-kazda-kobieta-krolowa-jest-2988/e
URL:https://www.karpacz.pl/koncertowy-dzien-kobiet-queen-of-the-night-kazda-kobieta-krolowa-jest-2988/e
SUMMARY:Koncertowy Dzień Kobiet: “Queen Of The Night" ...Każda Kobieta Królową Jest 
END:VEVENT
END:VCALENDAR