BEGIN:VCALENDAR
VERSION:2.0
PRODID:-//Karpacz//NONSGML v1.0//PL
CALSCALE:GREGORIAN
X-WR-TIMEZONE:Europe/Warsaw
BEGIN:VEVENT
DTSTART:20150529T090000
DTEND:20150529T090000
UID:69ed14afb68a8
DTSTAMP:20260425T212327
LOCATION:Karpacz\, Hotel Gołębiewski
DESCRIPTION: https://www.karpacz.pl/konferencja-wallstreet-2-71/e
URL:https://www.karpacz.pl/konferencja-wallstreet-2-71/e
SUMMARY:Konferencja Wallstreet
END:VEVENT
END:VCALENDAR