BEGIN:VCALENDAR
VERSION:2.0
PRODID:-//Karpacz//NONSGML v1.0//PL
CALSCALE:GREGORIAN
X-WR-TIMEZONE:Europe/Warsaw
BEGIN:VEVENT
DTSTART:20220914T110000
DTEND:20220914T140000
UID:69e4fe0921f95
DTSTAMP:20260419T180841
LOCATION:Stadion Lekkoatletyczny im. Ireny Szewińskiej
DESCRIPTION: https://www.karpacz.pl/lekkoatletyczne-nadzieje-olimpijskie-2022-2806/e
URL:https://www.karpacz.pl/lekkoatletyczne-nadzieje-olimpijskie-2022-2806/e
SUMMARY:Lekkoatletyczne Nadzieje Olimpijskie 2022
END:VEVENT
END:VCALENDAR