BEGIN:VCALENDAR
VERSION:2.0
PRODID:-//Karpacz//NONSGML v1.0//PL
CALSCALE:GREGORIAN
X-WR-TIMEZONE:Europe/Warsaw
BEGIN:VEVENT
DTSTART:20040807T150000
DTEND:20040807T150000
UID:69ed84b62a2f6
DTSTAMP:20260426T052126
LOCATION:Stadion Miejski w Karpaczu                                                                          
DESCRIPTION:Scenariusz imprezy 

Koncerty prowadzą: 
Zygmunt Chajzer i Roman Czejarek 


15.00   sygnał Lata z Radiem - Polka Dziadek 
15.01   przywitanie - Zygmunt Chajzer i Roman Czejarek 
15.10   ani https://www.karpacz.pl/lt-b-gt-olimpijskie-lato-z-radiem-lt-b-gt-2072/e
URL:https://www.karpacz.pl/lt-b-gt-olimpijskie-lato-z-radiem-lt-b-gt-2072/e
SUMMARY:Olimpijskie Lato z Radiem
END:VEVENT
END:VCALENDAR