BEGIN:VCALENDAR
VERSION:2.0
PRODID:-//Karpacz//NONSGML v1.0//PL
CALSCALE:GREGORIAN
X-WR-TIMEZONE:Europe/Warsaw
BEGIN:VEVENT
DTSTART:20040722T000000
DTEND:20040722T000000
UID:69ecd5ddd9ee2
DTSTAMP:20260425T165525
LOCATION:Western City                                                                                        
DESCRIPTION:&#8222\;3-rd International H.O.G. Wild West Rally Karpacz 2004&#8221\; - Zlot Motocykli Harley Davidson - Karpacz &#8211\; Western City. Impreza odbędzie  się w Karpaczu już po raz trzeci. Dla uczestn https://www.karpacz.pl/lt-b-gt-zlot-motocykli-harley-davidson-lt-b-gt-2079/e
URL:https://www.karpacz.pl/lt-b-gt-zlot-motocykli-harley-davidson-lt-b-gt-2079/e
SUMMARY:Zlot Motocykli Harley Davidson
END:VEVENT
END:VCALENDAR