BEGIN:VCALENDAR
VERSION:2.0
PRODID:-//Karpacz//NONSGML v1.0//PL
CALSCALE:GREGORIAN
X-WR-TIMEZONE:Europe/Warsaw
BEGIN:VEVENT
DTSTART:20241003T180000
DTEND:20241020T180000
UID:69e96e20238b5
DTSTAMP:20260423T025600
LOCATION:Centrum Integracji\, Edukacji i Kultury w Karpaczu ul.Konstytucji 3 Maja 24
DESCRIPTION: https://www.karpacz.pl/mariusz-kedzierski-inauguruje-sezon-artystyczny-w-centrum-integracji-edukacji-i-kultury-w-karpaczu-3083/e
URL:https://www.karpacz.pl/mariusz-kedzierski-inauguruje-sezon-artystyczny-w-centrum-integracji-edukacji-i-kultury-w-karpaczu-3083/e
SUMMARY:Mariusz Kędzierski inauguruje sezon artystyczny w Centrum Integracji Edukacji i Kultury w Karpaczu
END:VEVENT
END:VCALENDAR