BEGIN:VCALENDAR
VERSION:2.0
PRODID:-//Karpacz//NONSGML v1.0//PL
CALSCALE:GREGORIAN
X-WR-TIMEZONE:Europe/Warsaw
BEGIN:VEVENT
DTSTART:20111016T110000
DTEND:20111016T110000
UID:69ed1920eb76e
DTSTAMP:20260425T214224
LOCATION:Rudawy Janowickie Wielkie
DESCRIPTION:Dnia 16.10.2011 r. o godz. 11:00 odbędzie się wyjazdowy mecz piłki nożnej&nbsp\;pomiędzy drużynami RUDAWY JANOWICKIE WIELKIE a SANDRA GOLKARPACZ. https://www.karpacz.pl/mecz-pilki-noznej-1024-1366/e
URL:https://www.karpacz.pl/mecz-pilki-noznej-1024-1366/e
SUMMARY:Mecz piłki nożnej
END:VEVENT
END:VCALENDAR