BEGIN:VCALENDAR
VERSION:2.0
PRODID:-//Karpacz//NONSGML v1.0//PL
CALSCALE:GREGORIAN
X-WR-TIMEZONE:Europe/Warsaw
BEGIN:VEVENT
DTSTART:20200315T000000
DTEND:20200315T000000
UID:69eb1d5dd406f
DTSTAMP:20260424T093557
LOCATION:
DESCRIPTION: https://www.karpacz.pl/mistrzostwa-karkonoszy-o-puchar-burmistrza-karpacza-w-narciarstwie-alpejskim-i-snowboardzie-2663/e
URL:https://www.karpacz.pl/mistrzostwa-karkonoszy-o-puchar-burmistrza-karpacza-w-narciarstwie-alpejskim-i-snowboardzie-2663/e
SUMMARY:Mistrzostwa Karkonoszy o Puchar Burmistrza Karpacza w narciarstwie alpejskim i snowboardzie
END:VEVENT
END:VCALENDAR