BEGIN:VCALENDAR
VERSION:2.0
PRODID:-//Karpacz//NONSGML v1.0//PL
CALSCALE:GREGORIAN
X-WR-TIMEZONE:Europe/Warsaw
BEGIN:VEVENT
DTSTART:20131002T200000
DTEND:20131002T200000
UID:69ecf3e824c9a
DTSTAMP:20260425T190336
LOCATION:Kościółek Wang
DESCRIPTION:Coraz dłuższe wieczory\, dzień coraz kr&oacute\;tszy.&nbsp\;Co tu robić\, jak spędzić czas? Ano\, zapraszamy na nasze koncerty w kości&oacute\;łku WANG.
&quot\;Muzyka w kości&oacute\;łku WANG&quot\; https://www.karpacz.pl/muzyka-w-kosciolku-wang-1739-687/e
URL:https://www.karpacz.pl/muzyka-w-kosciolku-wang-1739-687/e
SUMMARY:Muzyka w Kościółku Wang
END:VEVENT
END:VCALENDAR