BEGIN:VCALENDAR
VERSION:2.0
PRODID:-//Karpacz//NONSGML v1.0//PL
CALSCALE:GREGORIAN
X-WR-TIMEZONE:Europe/Warsaw
BEGIN:VEVENT
DTSTART:20110129T200000
DTEND:20110129T200000
UID:69ed46bdcfb92
DTSTAMP:20260426T005701
LOCATION:Kościółek Wang
DESCRIPTION:Fundacja &quot\;Karkonosze - Muzyka Serc&quot\; zaprasza na kolejne koncerty DUO &quot\;JAK Amadeusz&quot\; w ramach koncertów &quot\;Muzyka w kościółku WANG&quot\; w Karpaczu . Zespół zagra dla Pańs https://www.karpacz.pl/muzyka-w-kosciolku-wang-829-1544/e
URL:https://www.karpacz.pl/muzyka-w-kosciolku-wang-829-1544/e
SUMMARY:Muzyka w Kościółku Wang
END:VEVENT
END:VCALENDAR