BEGIN:VCALENDAR
VERSION:2.0
PRODID:-//Karpacz//NONSGML v1.0//PL
CALSCALE:GREGORIAN
X-WR-TIMEZONE:Europe/Warsaw
BEGIN:VEVENT
DTSTART:20110806T200000
DTEND:20110806T200000
UID:69ea78ff1ae42
DTSTAMP:20260423T215439
LOCATION:Kościółek Wang
DESCRIPTION:Niepowtarzalny klimat kości&oacute\;łka i muzyka klasyczna (niegdyś będąca też muzyką rozrywkową)\, pozwalają na chwilę zapomnieć o trudach dnia codziennego\, troskach\, kłopotach\, dają chwil https://www.karpacz.pl/muzyka-w-kosciolku-wang-922-1463/e
URL:https://www.karpacz.pl/muzyka-w-kosciolku-wang-922-1463/e
SUMMARY:Muzyka w Kościółku WANG
END:VEVENT
END:VCALENDAR