BEGIN:VCALENDAR
VERSION:2.0
PRODID:-//Karpacz//NONSGML v1.0//PL
CALSCALE:GREGORIAN
X-WR-TIMEZONE:Europe/Warsaw
BEGIN:VEVENT
DTSTART:20110624T190000
DTEND:20110624T190000
UID:69eafad5f1575
DTSTAMP:20260424T070837
LOCATION:Western City
DESCRIPTION:Noc Świętojańska w Western City &ndash\; godz. 19:00
W programie:
-&nbsp\;Koncert nad stawami\, ognisko
- Konkurs wiank&oacute\;w
- Konkurs płukanaia złota
- Konkurs dojenia krowy
- Konkurs rzu https://www.karpacz.pl/noc-swietojanska-w-western-city-918-1467/e
URL:https://www.karpacz.pl/noc-swietojanska-w-western-city-918-1467/e
SUMMARY:Noc Świętojańska w Western City 
END:VEVENT
END:VCALENDAR