BEGIN:VCALENDAR
VERSION:2.0
PRODID:-//Karpacz//NONSGML v1.0//PL
CALSCALE:GREGORIAN
X-WR-TIMEZONE:Europe/Warsaw
BEGIN:VEVENT
DTSTART:20120405T170000
DTEND:20120405T170000
UID:69ecc01426e43
DTSTAMP:20260425T152228
LOCATION:Stadion Miejski
DESCRIPTION:Zajęcia Nordic Walking w ramach XII edycji programu &quot\;Karpacz +50&quot\;.
Zajęcia odbędą się na Stadionie Miejskim w Karpaczu w dniu 05 kwietnia 2012 roku (czwartek) o godzinie 17:00.
Serdec https://www.karpacz.pl/nordic-walking-1137-1264/e
URL:https://www.karpacz.pl/nordic-walking-1137-1264/e
SUMMARY: Nordic Walking 
END:VEVENT
END:VCALENDAR