BEGIN:VCALENDAR
VERSION:2.0
PRODID:-//Karpacz//NONSGML v1.0//PL
CALSCALE:GREGORIAN
X-WR-TIMEZONE:Europe/Warsaw
BEGIN:VEVENT
DTSTART:20120517T173000
DTEND:20120517T173000
UID:69ed2f3f8edce
DTSTAMP:20260425T231647
LOCATION:Stadion Miejski
DESCRIPTION:Zapraszamy wszystkich zainteresowanch&nbsp\;na&nbsp\;zajęcia Nordic Walking w ramach XII edycji programu &quot\;Karpacz +50&quot\;. Zajęcia odbędą się na Stadionie Miejskim w Karpaczu w dniu&nbsp\;17& https://www.karpacz.pl/nordic-walking-1165-1236/e
URL:https://www.karpacz.pl/nordic-walking-1165-1236/e
SUMMARY:Nordic Walking 
END:VEVENT
END:VCALENDAR