BEGIN:VCALENDAR
VERSION:2.0
PRODID:-//Karpacz//NONSGML v1.0//PL
CALSCALE:GREGORIAN
X-WR-TIMEZONE:Europe/Warsaw
BEGIN:VEVENT
DTSTART:20220709T150000
DTEND:20220709T190000
UID:69e949b5895b8
DTSTAMP:20260423T002037
LOCATION:Park przy ul. Mickiewicza
DESCRIPTION:PARK nauki i zabawy https://www.karpacz.pl/parkowanie-pod-lipa-2776/e
URL:https://www.karpacz.pl/parkowanie-pod-lipa-2776/e
SUMMARY:PARKowanie pod Lipą
END:VEVENT
END:VCALENDAR