BEGIN:VCALENDAR
VERSION:2.0
PRODID:-//Karpacz//NONSGML v1.0//PL
CALSCALE:GREGORIAN
X-WR-TIMEZONE:Europe/Warsaw
BEGIN:VEVENT
DTSTART:20260425T150000
DTEND:20260425T180000
UID:69e8e2c53f49e
DTSTAMP:20260422T170125
LOCATION:Centrum Integracji\, Edukacji i Kultury w Karpaczu ul. Konstytucji 3 Maja 24
DESCRIPTION: https://www.karpacz.pl/podaj-dalej-daj-drugie-zycie-rzeczom-3424/e
URL:https://www.karpacz.pl/podaj-dalej-daj-drugie-zycie-rzeczom-3424/e
SUMMARY:Podaj dalej – daj drugie życie rzeczom
END:VEVENT
END:VCALENDAR