BEGIN:VCALENDAR
VERSION:2.0
PRODID:-//Karpacz//NONSGML v1.0//PL
CALSCALE:GREGORIAN
X-WR-TIMEZONE:Europe/Warsaw
BEGIN:VEVENT
DTSTART:20241213T170000
DTEND:20241213T173000
UID:69eb169543e5f
DTSTAMP:20260424T090701
LOCATION:Centrum Integracji\, Edukacji i Kultury w Karpaczu ul.Konstytucji 3 Maja 24
DESCRIPTION:Wydarzenie bezpłatne https://www.karpacz.pl/popis-klasy-baletu-maestry-anny-krych-3118/e
URL:https://www.karpacz.pl/popis-klasy-baletu-maestry-anny-krych-3118/e
SUMMARY:Popis Klasy Baletu Maestry Anny Krych
END:VEVENT
END:VCALENDAR