BEGIN:VCALENDAR
VERSION:2.0
PRODID:-//Karpacz//NONSGML v1.0//PL
CALSCALE:GREGORIAN
X-WR-TIMEZONE:Europe/Warsaw
BEGIN:VEVENT
DTSTART:20170318T090000
DTEND:20170318T130000
UID:69e7feade984e
DTSTAMP:20260422T004813
LOCATION:Osada Budniki
DESCRIPTION:Tu Słońce nie dociera przez 113 dni w roku https://www.karpacz.pl/powitanie-slonca-w-budnikach-2381/e
URL:https://www.karpacz.pl/powitanie-slonca-w-budnikach-2381/e
SUMMARY:Powitanie Słońca w Budnikach
END:VEVENT
END:VCALENDAR